BEGIN:VCALENDAR
VERSION:2.0
PRODID:-//eventon.com NONSGML v1.0//EN
CALSCALE:GREGORIAN
METHOD:PUBLISH
BEGIN:VEVENT
UID:69e8fcef14e16
DTSTAMP:20260422T185303
DTSTART:20200112
DTEND:20200113
TZID:UTC
LOCATION:
SUMMARY:Yennayer\,  Capodanno berbero
DESCRIPTION:Oggi è il primo giorno dell’anno\,  secondo il calendario giuliano\,  per i berberi d’Algeria. «È un miracolo se ancora oggi\,  dopo migliaia di anni di invasioni e di colonialismi\,  si continua a parlare la lingua berbera e che ci sia una buona parte della popolazione nordafricana che si considera berbera.[..]\nhttps://www.africarivista.it/events/yennayer-capodanno-berbero/
URL:https://www.africarivista.it/events/yennayer-capodanno-berbero/
END:VEVENT
END:VCALENDAR